Name | Last modified | Size | Description | |
---|---|---|---|---|
Parent Directory | - | |||
checksrc-out.txt | 10-May-2024 00:40 | 4.4K | ||
install-out.txt | 10-May-2024 00:40 | 1.0K | ||
buildsrc-out.txt | 10-May-2024 00:40 | 817 | ||
checksrc-summary.dcf | 10-May-2024 00:40 | 451 | ||
buildsrc-summary.dcf | 10-May-2024 00:40 | 428 | ||
install-summary.dcf | 10-May-2024 00:40 | 270 | ||