Name | Last modified | Size | Description | |
---|---|---|---|---|
Parent Directory | - | |||
buildbin-out.txt | 03-Jul-2024 23:22 | 4.6K | ||
buildbin-summary.dcf | 03-Jul-2024 23:22 | 535 | ||
buildsrc-out.txt | 03-Jul-2024 23:22 | 883 | ||
buildsrc-summary.dcf | 03-Jul-2024 23:22 | 430 | ||
checksrc-out.txt | 03-Jul-2024 23:22 | 15K | ||
checksrc-summary.dcf | 03-Jul-2024 23:22 | 453 | ||
install-out.txt | 03-Jul-2024 23:22 | 4.4K | ||
install-summary.dcf | 03-Jul-2024 23:22 | 271 | ||