Name | Last modified | Size | Description | |
---|---|---|---|---|
Parent Directory | - | |||
install-summary.dcf | 26-Jun-2024 06:40 | 270 | ||
buildsrc-summary.dcf | 26-Jun-2024 06:40 | 456 | ||
checksrc-summary.dcf | 26-Jun-2024 06:40 | 457 | ||
buildbin-summary.dcf | 26-Jun-2024 06:40 | 521 | ||
buildsrc-out.txt | 26-Jun-2024 06:40 | 876 | ||
checksrc-out.txt | 26-Jun-2024 06:40 | 7.5K | ||
install-out.txt | 26-Jun-2024 06:40 | 9.9K | ||
buildbin-out.txt | 26-Jun-2024 06:40 | 10K | ||