Name | Last modified | Size | Description | |
---|---|---|---|---|
Parent Directory | - | |||
buildsrc-out.txt | 03-Jul-2024 23:19 | 876 | ||
buildsrc-summary.dcf | 03-Jul-2024 23:19 | 422 | ||
checksrc-out.txt | 03-Jul-2024 23:19 | 6.8K | ||
checksrc-summary.dcf | 03-Jul-2024 23:19 | 420 | ||
install-out.txt | 03-Jul-2024 23:19 | 8.8K | ||
install-summary.dcf | 03-Jul-2024 23:19 | 262 | ||