Name | Last modified | Size | Description | |
---|---|---|---|---|
Parent Directory | - | |||
buildsrc-out.txt | 26-Jun-2024 06:39 | 849 | ||
buildsrc-summary.dcf | 26-Jun-2024 06:39 | 417 | ||
checksrc-out.txt | 26-Jun-2024 06:39 | 3.4K | ||
checksrc-summary.dcf | 26-Jun-2024 06:39 | 415 | ||
install-out.txt | 26-Jun-2024 06:39 | 955 | ||
install-summary.dcf | 26-Jun-2024 06:39 | 260 | ||