Name | Last modified | Size | Description | |
---|---|---|---|---|
Parent Directory | - | |||
buildsrc-out.txt | 26-Jun-2024 06:39 | 750 | ||
buildsrc-summary.dcf | 26-Jun-2024 06:39 | 428 | ||
checksrc-out.txt | 26-Jun-2024 06:39 | 4.5K | ||
checksrc-summary.dcf | 26-Jun-2024 06:39 | 435 | ||
install-out.txt | 26-Jun-2024 06:39 | 964 | ||
install-summary.dcf | 26-Jun-2024 06:39 | 266 | ||