Name | Last modified | Size | Description | |
---|---|---|---|---|
Parent Directory | - | |||
buildsrc-out.txt | 26-Jun-2024 06:39 | 856 | ||
buildsrc-summary.dcf | 26-Jun-2024 06:39 | 406 | ||
checksrc-out.txt | 26-Jun-2024 06:39 | 3.4K | ||
checksrc-summary.dcf | 26-Jun-2024 06:39 | 400 | ||
install-out.txt | 26-Jun-2024 06:39 | 943 | ||
install-summary.dcf | 26-Jun-2024 06:39 | 251 | ||