Name | Last modified | Size | Description | |
---|---|---|---|---|
Parent Directory | - | |||
install-summary.dcf | 26-Jun-2024 06:40 | 273 | ||
checksrc-summary.dcf | 26-Jun-2024 06:40 | 457 | ||
buildsrc-summary.dcf | 26-Jun-2024 06:40 | 463 | ||
buildbin-summary.dcf | 26-Jun-2024 06:40 | 531 | ||
buildsrc-out.txt | 26-Jun-2024 06:40 | 945 | ||
install-out.txt | 26-Jun-2024 06:40 | 1.7K | ||
buildbin-out.txt | 26-Jun-2024 06:40 | 1.9K | ||
checksrc-out.txt | 26-Jun-2024 06:40 | 4.4K | ||