Name | Last modified | Size | Description | |
---|---|---|---|---|
Parent Directory | - | |||
install-summary.dcf | 26-Jun-2024 06:41 | 275 | ||
install-out.txt | 26-Jun-2024 06:41 | 1.9K | ||
checksrc-summary.dcf | 26-Jun-2024 06:41 | 455 | ||
checksrc-out.txt | 26-Jun-2024 06:41 | 4.2K | ||
buildsrc-summary.dcf | 26-Jun-2024 06:41 | 435 | ||
buildsrc-out.txt | 26-Jun-2024 06:41 | 920 | ||
buildbin-summary.dcf | 26-Jun-2024 06:41 | 546 | ||
buildbin-out.txt | 26-Jun-2024 06:41 | 3.9K | ||