Name | Last modified | Size | Description | |
---|---|---|---|---|
Parent Directory | - | |||
install-summary.dcf | 26-Jun-2024 06:43 | 274 | ||
install-out.txt | 26-Jun-2024 06:43 | 1.9K | ||
checksrc-summary.dcf | 26-Jun-2024 06:43 | 454 | ||
checksrc-out.txt | 26-Jun-2024 06:43 | 4.1K | ||
buildsrc-summary.dcf | 26-Jun-2024 06:43 | 435 | ||
buildsrc-out.txt | 26-Jun-2024 06:43 | 920 | ||
buildbin-summary.dcf | 26-Jun-2024 06:43 | 545 | ||
buildbin-out.txt | 26-Jun-2024 06:43 | 3.9K | ||