Name | Last modified | Size | Description | |
---|---|---|---|---|
Parent Directory | - | |||
install-summary.dcf | 10-Jul-2024 06:39 | 268 | ||
install-out.txt | 10-Jul-2024 06:39 | 1.7K | ||
checksrc-summary.dcf | 10-Jul-2024 06:39 | 432 | ||
checksrc-out.txt | 10-Jul-2024 06:39 | 4.2K | ||
buildsrc-summary.dcf | 10-Jul-2024 06:39 | 431 | ||
buildsrc-out.txt | 10-Jul-2024 06:39 | 918 | ||