Name | Last modified | Size | Description | |
---|---|---|---|---|
Parent Directory | - | |||
buildbin-out.txt | 03-Jul-2024 23:20 | 1.9K | ||
buildbin-summary.dcf | 03-Jul-2024 23:20 | 488 | ||
buildsrc-out.txt | 03-Jul-2024 23:20 | 887 | ||
buildsrc-summary.dcf | 03-Jul-2024 23:20 | 434 | ||
checksrc-out.txt | 03-Jul-2024 23:20 | 4.0K | ||
checksrc-summary.dcf | 03-Jul-2024 23:20 | 428 | ||
install-out.txt | 03-Jul-2024 23:20 | 1.8K | ||
install-summary.dcf | 03-Jul-2024 23:20 | 259 | ||