Name | Last modified | Size | Description | |
---|---|---|---|---|
Parent Directory | - | |||
buildsrc-out.txt | 03-Jul-2024 23:19 | 1.5K | ||
buildsrc-summary.dcf | 03-Jul-2024 23:19 | 339 | ||
checksrc-out.txt | 24-Apr-2024 00:36 | 7.2K | ||
checksrc-summary.dcf | 24-Apr-2024 00:36 | 426 | ||
install-out.txt | 03-Jul-2024 23:19 | 1.3K | ||
install-summary.dcf | 03-Jul-2024 23:19 | 268 | ||