Name | Last modified | Size | Description | |
---|---|---|---|---|
Parent Directory | - | |||
buildbin-out.txt | 03-Jul-2024 23:22 | 13K | ||
buildbin-summary.dcf | 03-Jul-2024 23:22 | 533 | ||
buildsrc-out.txt | 03-Jul-2024 23:22 | 964 | ||
buildsrc-summary.dcf | 03-Jul-2024 23:22 | 428 | ||
checksrc-out.txt | 03-Jul-2024 23:22 | 5.3K | ||
checksrc-summary.dcf | 03-Jul-2024 23:22 | 446 | ||
install-out.txt | 03-Jul-2024 23:22 | 11K | ||
install-summary.dcf | 03-Jul-2024 23:22 | 270 | ||