Name | Last modified | Size | Description | |
---|---|---|---|---|
Parent Directory | - | |||
buildsrc-out.txt | 03-Jul-2024 23:18 | 835 | ||
buildsrc-summary.dcf | 03-Jul-2024 23:18 | 416 | ||
checksrc-out.txt | 03-Jul-2024 23:18 | 4.3K | ||
checksrc-summary.dcf | 03-Jul-2024 23:18 | 412 | ||
install-out.txt | 03-Jul-2024 23:18 | 3.2M | ||
install-summary.dcf | 03-Jul-2024 23:18 | 259 | ||