Index of /checkResults/release/bioc-LATEST/decompTumor2Sig/raw-results/kjohnson3
Name
Last modified
Size
Description
Parent Directory
-
buildsrc-out.txt
12-Jun-2024 03:43
677
buildsrc-summary.dcf
12-Jun-2024 03:43
366
install-out.txt
12-Jun-2024 03:43
1.0K
install-summary.dcf
12-Jun-2024 03:43
285