Name | Last modified | Size | Description | |
---|---|---|---|---|
Parent Directory | - | |||
buildsrc-out.txt | 22-Jun-2024 06:38 | 828 | ||
buildsrc-summary.dcf | 22-Jun-2024 06:38 | 411 | ||
checksrc-out.txt | 22-Jun-2024 06:38 | 3.4K | ||
checksrc-summary.dcf | 22-Jun-2024 06:38 | 406 | ||
install-out.txt | 22-Jun-2024 06:38 | 4.6K | ||
install-summary.dcf | 22-Jun-2024 06:38 | 255 | ||