Name | Last modified | Size | Description | |
---|---|---|---|---|
Parent Directory | - | |||
buildsrc-out.txt | 10-May-2024 00:40 | 1.1K | ||
buildsrc-summary.dcf | 10-May-2024 00:40 | 420 | ||
checksrc-out.txt | 10-May-2024 00:40 | 5.0K | ||
checksrc-summary.dcf | 10-May-2024 00:40 | 445 | ||
install-out.txt | 10-May-2024 00:40 | 9.0K | ||
install-summary.dcf | 10-May-2024 00:40 | 265 | ||