Name | Last modified | Size | Description | |
---|---|---|---|---|
Parent Directory | - | |||
buildsrc-out.txt | 22-Jun-2024 06:38 | 1.1K | ||
buildsrc-summary.dcf | 22-Jun-2024 06:38 | 414 | ||
checksrc-out.txt | 22-Jun-2024 06:38 | 5.4K | ||
checksrc-summary.dcf | 22-Jun-2024 06:38 | 410 | ||
install-out.txt | 22-Jun-2024 06:38 | 957 | ||
install-summary.dcf | 22-Jun-2024 06:38 | 257 | ||