Name | Last modified | Size | Description | |
---|---|---|---|---|
Parent Directory | - | |||
buildbin-out.txt | 05-Mar-2024 01:39 | 1.4K | ||
buildbin-summary.dcf | 05-Mar-2024 01:39 | 555 | ||
buildsrc-out.txt | 03-Jul-2024 23:21 | 1.0K | ||
buildsrc-summary.dcf | 03-Jul-2024 23:21 | 350 | ||
checksrc-out.txt | 05-Mar-2024 01:39 | 3.6K | ||
checksrc-summary.dcf | 05-Mar-2024 01:39 | 460 | ||
install-out.txt | 03-Jul-2024 23:21 | 706 | ||
install-summary.dcf | 03-Jul-2024 23:21 | 279 | ||