Name | Last modified | Size | Description | |
---|---|---|---|---|
Parent Directory | - | |||
checksrc-out.txt | 17-Jul-2024 06:39 | 4.6K | ||
buildbin-out.txt | 17-Jul-2024 06:39 | 1.6K | ||
install-out.txt | 17-Jul-2024 06:39 | 1.5K | ||
buildsrc-out.txt | 17-Jul-2024 06:39 | 871 | ||
buildbin-summary.dcf | 17-Jul-2024 06:39 | 515 | ||
buildsrc-summary.dcf | 17-Jul-2024 06:39 | 452 | ||
checksrc-summary.dcf | 17-Jul-2024 06:39 | 446 | ||
install-summary.dcf | 17-Jul-2024 06:39 | 268 | ||