Name | Last modified | Size | Description | |
---|---|---|---|---|
Parent Directory | - | |||
buildbin-out.txt | 26-Jun-2024 06:40 | 1.1K | ||
buildbin-summary.dcf | 26-Jun-2024 06:40 | 563 | ||
buildsrc-out.txt | 26-Jun-2024 06:40 | 939 | ||
buildsrc-summary.dcf | 26-Jun-2024 06:40 | 485 | ||
checksrc-out.txt | 26-Jun-2024 06:40 | 15K | ||
checksrc-summary.dcf | 26-Jun-2024 06:40 | 480 | ||
install-out.txt | 26-Jun-2024 06:40 | 1.0K | ||
install-summary.dcf | 26-Jun-2024 06:40 | 284 | ||