Index of /checkResults/release/bioc-LATEST/casper/raw-results/kjohnson1
Name
Last modified
Size
Description
Parent Directory
-
buildsrc-out.txt
10-Jul-2024 06:42
5.6K
buildsrc-summary.dcf
10-Jul-2024 06:42
341
install-out.txt
10-Jul-2024 06:42
8.3K
install-summary.dcf
10-Jul-2024 06:42
267