Name | Last modified | Size | Description | |
---|---|---|---|---|
Parent Directory | - | |||
buildsrc-out.txt | 03-Jul-2024 23:18 | 857 | ||
buildsrc-summary.dcf | 03-Jul-2024 23:18 | 407 | ||
checksrc-out.txt | 03-Jul-2024 23:18 | 3.4K | ||
checksrc-summary.dcf | 03-Jul-2024 23:18 | 402 | ||
install-out.txt | 03-Jul-2024 23:18 | 951 | ||
install-summary.dcf | 03-Jul-2024 23:18 | 253 | ||