Name | Last modified | Size | Description | |
---|---|---|---|---|
Parent Directory | - | |||
checksrc-out.txt | 17-Jul-2024 06:39 | 6.9K | ||
buildbin-out.txt | 17-Jul-2024 06:39 | 2.7K | ||
install-out.txt | 17-Jul-2024 06:39 | 2.6K | ||
buildsrc-out.txt | 17-Jul-2024 06:39 | 886 | ||
buildbin-summary.dcf | 17-Jul-2024 06:39 | 533 | ||
checksrc-summary.dcf | 17-Jul-2024 06:39 | 465 | ||
buildsrc-summary.dcf | 17-Jul-2024 06:39 | 464 | ||
install-summary.dcf | 17-Jul-2024 06:39 | 274 | ||