Name | Last modified | Size | Description | |
---|---|---|---|---|
Parent Directory | - | |||
buildsrc-out.txt | 19-Jun-2024 06:57 | 877 | ||
buildsrc-summary.dcf | 19-Jun-2024 06:57 | 424 | ||
checksrc-out.txt | 19-Jun-2024 06:57 | 3.4K | ||
checksrc-summary.dcf | 19-Jun-2024 06:57 | 422 | ||
install-out.txt | 19-Jun-2024 06:57 | 966 | ||
install-summary.dcf | 19-Jun-2024 06:57 | 263 | ||