Name | Last modified | Size | Description | |
---|---|---|---|---|
Parent Directory | - | |||
buildbin-out.txt | 03-Jul-2024 23:22 | 5.1K | ||
checksrc-out.txt | 03-Jul-2024 23:22 | 3.4K | ||
install-out.txt | 03-Jul-2024 23:22 | 3.1K | ||
buildsrc-out.txt | 03-Jul-2024 23:22 | 849 | ||
buildbin-summary.dcf | 03-Jul-2024 23:22 | 531 | ||
checksrc-summary.dcf | 03-Jul-2024 23:22 | 445 | ||
buildsrc-summary.dcf | 03-Jul-2024 23:22 | 426 | ||
install-summary.dcf | 03-Jul-2024 23:22 | 270 | ||