Name | Last modified | Size | Description | |
---|---|---|---|---|
Parent Directory | - | |||
buildsrc-out.txt | 26-Jun-2024 06:39 | 820 | ||
buildsrc-summary.dcf | 26-Jun-2024 06:39 | 404 | ||
checksrc-out.txt | 26-Jun-2024 06:39 | 8.5K | ||
checksrc-summary.dcf | 26-Jun-2024 06:39 | 398 | ||
install-out.txt | 26-Jun-2024 06:39 | 5.6K | ||
install-summary.dcf | 26-Jun-2024 06:39 | 251 | ||