Name | Last modified | Size | Description | |
---|---|---|---|---|
Parent Directory | - | |||
install-out.txt | 03-Jul-2024 23:18 | 949 | ||
install-summary.dcf | 03-Jul-2024 23:18 | 256 | ||
buildsrc-out.txt | 03-Jul-2024 23:18 | 865 | ||
buildsrc-summary.dcf | 03-Jul-2024 23:18 | 415 | ||
checksrc-out.txt | 03-Jul-2024 23:18 | 4.0K | ||
checksrc-summary.dcf | 03-Jul-2024 23:18 | 410 | ||