Name | Last modified | Size | Description | |
---|---|---|---|---|
Parent Directory | - | |||
install-summary.dcf | 26-Jun-2024 06:43 | 275 | ||
buildsrc-summary.dcf | 26-Jun-2024 06:43 | 436 | ||
checksrc-summary.dcf | 26-Jun-2024 06:43 | 456 | ||
buildbin-summary.dcf | 26-Jun-2024 06:43 | 547 | ||
buildsrc-out.txt | 26-Jun-2024 06:43 | 858 | ||
install-out.txt | 26-Jun-2024 06:43 | 3.8K | ||
checksrc-out.txt | 26-Jun-2024 06:43 | 4.6K | ||
buildbin-out.txt | 26-Jun-2024 06:43 | 6.5K | ||