Name | Last modified | Size | Description | |
---|---|---|---|---|
Parent Directory | - | |||
buildsrc-out.txt | 26-Jun-2024 06:39 | 798 | ||
buildsrc-summary.dcf | 26-Jun-2024 06:39 | 412 | ||
checksrc-out.txt | 26-Jun-2024 06:39 | 3.4K | ||
checksrc-summary.dcf | 26-Jun-2024 06:39 | 407 | ||
install-out.txt | 26-Jun-2024 06:39 | 946 | ||
install-summary.dcf | 26-Jun-2024 06:39 | 255 | ||