Name | Last modified | Size | Description | |
---|---|---|---|---|
Parent Directory | - | |||
buildsrc-out.txt | 26-Jun-2024 06:39 | 817 | ||
buildsrc-summary.dcf | 26-Jun-2024 06:39 | 431 | ||
checksrc-out.txt | 26-Jun-2024 06:39 | 12K | ||
checksrc-summary.dcf | 26-Jun-2024 06:39 | 439 | ||
install-out.txt | 26-Jun-2024 06:39 | 1.0K | ||
install-summary.dcf | 26-Jun-2024 06:39 | 268 | ||