Name | Last modified | Size | Description | |
---|---|---|---|---|
Parent Directory | - | |||
buildsrc-out.txt | 10-May-2024 00:40 | 828 | ||
buildsrc-summary.dcf | 10-May-2024 00:40 | 442 | ||
checksrc-out.txt | 10-May-2024 00:40 | 12K | ||
checksrc-summary.dcf | 10-May-2024 00:40 | 476 | ||
install-out.txt | 10-May-2024 00:40 | 1.0K | ||
install-summary.dcf | 10-May-2024 00:40 | 280 | ||