Name | Last modified | Size | Description | |
---|---|---|---|---|
Parent Directory | - | |||
install-summary.dcf | 03-Jul-2024 23:19 | 266 | ||
install-out.txt | 03-Jul-2024 23:19 | 1.9M | ||
checksrc-summary.dcf | 03-Jul-2024 23:19 | 443 | ||
checksrc-out.txt | 03-Jul-2024 23:19 | 3.9K | ||
buildsrc-summary.dcf | 03-Jul-2024 23:19 | 449 | ||
buildsrc-out.txt | 03-Jul-2024 23:19 | 903 | ||
buildbin-summary.dcf | 03-Jul-2024 23:19 | 509 | ||
buildbin-out.txt | 03-Jul-2024 23:19 | 1.9M | ||