Name | Last modified | Size | Description | |
---|---|---|---|---|
Parent Directory | - | |||
install-summary.dcf | 26-Jun-2024 06:43 | 286 | ||
install-out.txt | 26-Jun-2024 06:43 | 2.2K | ||
checksrc-summary.dcf | 26-Jun-2024 06:43 | 478 | ||
checksrc-out.txt | 26-Jun-2024 06:43 | 3.6K | ||
buildsrc-summary.dcf | 26-Jun-2024 06:43 | 452 | ||
buildsrc-out.txt | 26-Jun-2024 06:43 | 881 | ||
buildbin-summary.dcf | 26-Jun-2024 06:43 | 581 | ||
buildbin-out.txt | 26-Jun-2024 06:43 | 4.4K | ||