Name | Last modified | Size | Description | |
---|---|---|---|---|
Parent Directory | - | |||
buildsrc-out.txt | 10-May-2024 00:40 | 669 | ||
buildsrc-summary.dcf | 10-May-2024 00:40 | 361 | ||
checksrc-out.txt | 29-Mar-2024 00:40 | 4.0K | ||
checksrc-summary.dcf | 29-Mar-2024 00:40 | 473 | ||
install-out.txt | 10-May-2024 00:40 | 1.0K | ||
install-summary.dcf | 10-May-2024 00:40 | 280 | ||