Name | Last modified | Size | Description | |
---|---|---|---|---|
Parent Directory | - | |||
install-summary.dcf | 26-Jun-2024 06:42 | 262 | ||
buildsrc-summary.dcf | 26-Jun-2024 06:42 | 416 | ||
checksrc-summary.dcf | 26-Jun-2024 06:42 | 434 | ||
buildbin-summary.dcf | 26-Jun-2024 06:42 | 507 | ||
buildsrc-out.txt | 26-Jun-2024 06:42 | 893 | ||
checksrc-out.txt | 26-Jun-2024 06:42 | 4.3K | ||
install-out.txt | 26-Jun-2024 06:42 | 8.9K | ||
buildbin-out.txt | 26-Jun-2024 06:42 | 11K | ||