Name | Last modified | Size | Description | |
---|---|---|---|---|
Parent Directory | - | |||
buildsrc-out.txt | 03-Jul-2024 23:19 | 868 | ||
buildsrc-summary.dcf | 03-Jul-2024 23:19 | 415 | ||
checksrc-out.txt | 03-Jul-2024 23:19 | 4.1K | ||
checksrc-summary.dcf | 03-Jul-2024 23:19 | 412 | ||
install-out.txt | 03-Jul-2024 23:19 | 960 | ||
install-summary.dcf | 03-Jul-2024 23:19 | 258 | ||