Name | Last modified | Size | Description | |
---|---|---|---|---|
Parent Directory | - | |||
buildbin-out.txt | 26-Jun-2024 06:44 | 1.2K | ||
buildbin-summary.dcf | 26-Jun-2024 06:44 | 559 | ||
buildsrc-out.txt | 29-Jun-2024 06:46 | 899 | ||
buildsrc-summary.dcf | 29-Jun-2024 06:46 | 442 | ||
checksrc-out.txt | 29-Jun-2024 06:46 | 6.9K | ||
checksrc-summary.dcf | 29-Jun-2024 06:46 | 470 | ||
install-out.txt | 29-Jun-2024 06:46 | 1.0K | ||
install-summary.dcf | 29-Jun-2024 06:46 | 279 | ||