Index of /checkResults/release/bioc-LATEST/VariantExperiment/raw-results/palomino7
Name
Last modified
Size
Description
Parent Directory
-
buildsrc-out.txt
17-Jul-2024 06:40
1.2K
buildsrc-summary.dcf
17-Jul-2024 06:40
398
install-out.txt
17-Jul-2024 06:40
1.0K
install-summary.dcf
17-Jul-2024 06:40
288