Name | Last modified | Size | Description | |
---|---|---|---|---|
Parent Directory | - | |||
buildbin-out.txt | 03-Jul-2024 23:21 | 7.5K | ||
buildbin-summary.dcf | 03-Jul-2024 23:21 | 576 | ||
buildsrc-out.txt | 03-Jul-2024 23:21 | 921 | ||
buildsrc-summary.dcf | 03-Jul-2024 23:21 | 493 | ||
checksrc-out.txt | 03-Jul-2024 23:21 | 14K | ||
checksrc-summary.dcf | 03-Jul-2024 23:21 | 493 | ||
install-out.txt | 03-Jul-2024 23:21 | 7.3K | ||
install-summary.dcf | 03-Jul-2024 23:21 | 289 | ||