Name | Last modified | Size | Description | |
---|---|---|---|---|
Parent Directory | - | |||
buildsrc-out.txt | 26-Jun-2024 06:40 | 844 | ||
buildsrc-summary.dcf | 26-Jun-2024 06:40 | 423 | ||
checksrc-out.txt | 26-Jun-2024 06:40 | 9.0K | ||
checksrc-summary.dcf | 26-Jun-2024 06:40 | 428 | ||
install-out.txt | 26-Jun-2024 06:40 | 8.8K | ||
install-summary.dcf | 26-Jun-2024 06:40 | 263 | ||