Name | Last modified | Size | Description | |
---|---|---|---|---|
Parent Directory | - | |||
install-out.txt | 26-Jun-2024 06:44 | 7.1K | ||
install-summary.dcf | 26-Jun-2024 06:44 | 273 | ||
buildsrc-out.txt | 26-Jun-2024 06:44 | 854 | ||
buildsrc-summary.dcf | 26-Jun-2024 06:44 | 432 | ||
checksrc-out.txt | 26-Jun-2024 06:44 | 8.8K | ||
checksrc-summary.dcf | 26-Jun-2024 06:44 | 458 | ||
buildbin-out.txt | 26-Jun-2024 06:44 | 9.7K | ||
buildbin-summary.dcf | 26-Jun-2024 06:44 | 542 | ||