Name | Last modified | Size | Description | |
---|---|---|---|---|
Parent Directory | - | |||
buildbin-out.txt | 03-Jul-2024 23:21 | 1.2K | ||
buildbin-summary.dcf | 03-Jul-2024 23:21 | 581 | ||
buildsrc-out.txt | 03-Jul-2024 23:21 | 894 | ||
buildsrc-summary.dcf | 03-Jul-2024 23:21 | 497 | ||
checksrc-out.txt | 03-Jul-2024 23:21 | 3.9K | ||
checksrc-summary.dcf | 03-Jul-2024 23:21 | 490 | ||
install-out.txt | 03-Jul-2024 23:21 | 1.0K | ||
install-summary.dcf | 03-Jul-2024 23:21 | 290 | ||