Name | Last modified | Size | Description | |
---|---|---|---|---|
Parent Directory | - | |||
buildbin-out.txt | 03-Jul-2024 23:22 | 4.3K | ||
buildbin-summary.dcf | 03-Jul-2024 23:22 | 554 | ||
buildsrc-out.txt | 03-Jul-2024 23:22 | 910 | ||
buildsrc-summary.dcf | 03-Jul-2024 23:22 | 439 | ||
checksrc-out.txt | 03-Jul-2024 23:22 | 3.7K | ||
checksrc-summary.dcf | 03-Jul-2024 23:22 | 460 | ||
install-out.txt | 03-Jul-2024 23:22 | 2.1K | ||
install-summary.dcf | 03-Jul-2024 23:22 | 277 | ||