Name | Last modified | Size | Description | |
---|---|---|---|---|
Parent Directory | - | |||
buildbin-out.txt | 03-Jul-2024 23:21 | 4.0K | ||
buildbin-summary.dcf | 03-Jul-2024 23:21 | 542 | ||
buildsrc-out.txt | 03-Jul-2024 23:21 | 955 | ||
buildsrc-summary.dcf | 03-Jul-2024 23:21 | 468 | ||
checksrc-out.txt | 03-Jul-2024 23:21 | 4.3K | ||
checksrc-summary.dcf | 03-Jul-2024 23:21 | 465 | ||
install-out.txt | 03-Jul-2024 23:21 | 3.8K | ||
install-summary.dcf | 03-Jul-2024 23:21 | 277 | ||