Name | Last modified | Size | Description | |
---|---|---|---|---|
Parent Directory | - | |||
buildbin-out.txt | 29-Jun-2024 06:42 | 1.0K | ||
buildbin-summary.dcf | 29-Jun-2024 06:42 | 503 | ||
buildsrc-out.txt | 29-Jun-2024 06:42 | 815 | ||
buildsrc-summary.dcf | 29-Jun-2024 06:42 | 443 | ||
checksrc-out.txt | 29-Jun-2024 06:42 | 3.5K | ||
checksrc-summary.dcf | 29-Jun-2024 06:42 | 439 | ||
install-out.txt | 29-Jun-2024 06:42 | 940 | ||
install-summary.dcf | 29-Jun-2024 06:42 | 264 | ||