Name | Last modified | Size | Description | |
---|---|---|---|---|
Parent Directory | - | |||
buildbin-out.txt | 12-Jun-2024 03:44 | 4.7K | ||
buildbin-summary.dcf | 12-Jun-2024 03:44 | 543 | ||
buildsrc-out.txt | 12-Jun-2024 03:44 | 854 | ||
buildsrc-summary.dcf | 12-Jun-2024 03:44 | 434 | ||
checksrc-out.txt | 12-Jun-2024 03:44 | 4.3K | ||
checksrc-summary.dcf | 12-Jun-2024 03:44 | 452 | ||
install-out.txt | 12-Jun-2024 03:44 | 2.8K | ||
install-summary.dcf | 12-Jun-2024 03:44 | 273 | ||