Index of /checkResults/release/bioc-LATEST/TENxIO/raw-results/merida1
Name
Last modified
Size
Description
Parent Directory
-
buildsrc-out.txt
19-Jun-2024 07:01
1.0K
buildsrc-summary.dcf
19-Jun-2024 07:01
340
install-out.txt
19-Jun-2024 07:01
1.0K
install-summary.dcf
19-Jun-2024 07:01
266