Name | Last modified | Size | Description | |
---|---|---|---|---|
Parent Directory | - | |||
buildbin-out.txt | 12-Jun-2024 03:43 | 1.3K | ||
buildbin-summary.dcf | 12-Jun-2024 03:43 | 601 | ||
buildsrc-out.txt | 12-Jun-2024 03:43 | 864 | ||
buildsrc-summary.dcf | 12-Jun-2024 03:43 | 462 | ||
checksrc-out.txt | 12-Jun-2024 03:43 | 19K | ||
checksrc-summary.dcf | 12-Jun-2024 03:43 | 492 | ||
install-out.txt | 12-Jun-2024 03:43 | 1.0K | ||
install-summary.dcf | 12-Jun-2024 03:43 | 292 | ||